BEGIN:VCALENDAR
VERSION:2.0
PRODID:-//The Rotary Club of Maroondah - ECPv6.15.19//NONSGML v1.0//EN
CALSCALE:GREGORIAN
METHOD:PUBLISH
X-WR-CALNAME:The Rotary Club of Maroondah
X-ORIGINAL-URL:https://www.maroondahrotary.org.au
X-WR-CALDESC:Events for The Rotary Club of Maroondah
REFRESH-INTERVAL;VALUE=DURATION:PT1H
X-Robots-Tag:noindex
X-PUBLISHED-TTL:PT1H
BEGIN:VTIMEZONE
TZID:Australia/Melbourne
BEGIN:STANDARD
TZOFFSETFROM:+1100
TZOFFSETTO:+1000
TZNAME:AEST
DTSTART:20250405T160000
END:STANDARD
BEGIN:DAYLIGHT
TZOFFSETFROM:+1000
TZOFFSETTO:+1100
TZNAME:AEDT
DTSTART:20251004T160000
END:DAYLIGHT
BEGIN:STANDARD
TZOFFSETFROM:+1100
TZOFFSETTO:+1000
TZNAME:AEST
DTSTART:20260404T160000
END:STANDARD
BEGIN:DAYLIGHT
TZOFFSETFROM:+1000
TZOFFSETTO:+1100
TZNAME:AEDT
DTSTART:20261003T160000
END:DAYLIGHT
BEGIN:STANDARD
TZOFFSETFROM:+1100
TZOFFSETTO:+1000
TZNAME:AEST
DTSTART:20270403T160000
END:STANDARD
BEGIN:DAYLIGHT
TZOFFSETFROM:+1000
TZOFFSETTO:+1100
TZNAME:AEDT
DTSTART:20271002T160000
END:DAYLIGHT
END:VTIMEZONE
BEGIN:VEVENT
DTSTART;TZID=Australia/Melbourne:20260506T180000
DTEND;TZID=Australia/Melbourne:20260506T200000
DTSTAMP:20260419T175912
CREATED:20260224T112316Z
LAST-MODIFIED:20260224T112316Z
UID:6561-1778090400-1778097600@www.maroondahrotary.org.au
SUMMARY:Operation Toilets / We Can’t Wait in Ethiopia   - Tony Stokes Box Hill Central RC
DESCRIPTION:
URL:https://www.maroondahrotary.org.au/event/operation-toilets-we-cant-wait-in-ethiopia-tony-stokes-box-hill-central-rc/
LOCATION:Club Ringwood
END:VEVENT
BEGIN:VEVENT
DTSTART;TZID=Australia/Melbourne:20260513T180000
DTEND;TZID=Australia/Melbourne:20260513T200000
DTSTAMP:20260419T175912
CREATED:20260328T104155Z
LAST-MODIFIED:20260328T104155Z
UID:6593-1778695200-1778702400@www.maroondahrotary.org.au
SUMMARY:EERN  - Gabby Knaepple (RC Nunawading)
DESCRIPTION:
URL:https://www.maroondahrotary.org.au/event/eern-gabby-knaepple-rc-nunawading/
LOCATION:Club Ringwood
END:VEVENT
BEGIN:VEVENT
DTSTART;TZID=Australia/Melbourne:20260613T200000
DTEND;TZID=Australia/Melbourne:20260613T220000
DTSTAMP:20260419T175912
CREATED:20260418T045637Z
LAST-MODIFIED:20260418T045637Z
UID:6693-1781380800-1781388000@www.maroondahrotary.org.au
SUMMARY:End Polio Now Fundraiser - Lady Killers
DESCRIPTION:Tickets – $35 each \nFollow this link: \nhttps://events.humanitix.com/polio-fundraiser-the-lady-killers?_gl=1*1758r3w*_gcl_au*OTkwMjgzMjgwLjE3NzU5OTAzMTA.*_ga*MzkzMzA5ODE2LjE3NzU5OTAzMTI.*_ga_LHKW5FR9N6*czE3NzY0ODcxNzgkbzQkZzEkdDE3NzY0ODc3MzMkajYwJGwwJGgw \nGet your tickets before 1 May \n  \nTrish
URL:https://www.maroondahrotary.org.au/event/end-polio-now-fundraiser-lady-killers/
LOCATION:1812 Theatre\, Rose St\, Ferntree Gully\, Vic\, Australia
END:VEVENT
END:VCALENDAR